BEGIN:VCALENDAR
VERSION:2.0
PRODID:-//A Friend In Me - ECPv6.15.15//NONSGML v1.0//EN
CALSCALE:GREGORIAN
METHOD:PUBLISH
X-WR-CALNAME:A Friend In Me
X-ORIGINAL-URL:https://afriendinme.net
X-WR-CALDESC:Events for A Friend In Me
REFRESH-INTERVAL;VALUE=DURATION:PT1H
X-Robots-Tag:noindex
X-PUBLISHED-TTL:PT1H
BEGIN:VTIMEZONE
TZID:UTC
BEGIN:STANDARD
TZOFFSETFROM:+0000
TZOFFSETTO:+0000
TZNAME:UTC
DTSTART:20220101T000000
END:STANDARD
END:VTIMEZONE
BEGIN:VEVENT
DTSTART;TZID=UTC:20230827T160000
DTEND;TZID=UTC:20230827T200000
DTSTAMP:20260422T125311
CREATED:20230710T170228Z
LAST-MODIFIED:20230719T163448Z
UID:244-1693152000-1693166400@afriendinme.net
SUMMARY:A Friend in Me - Macon\, GA
DESCRIPTION:*****Please Read Before Purchasing Tickets***** A Friend in Me presents an evening of Mental Health Talks\, Live Music\, Food Trucks\, and Local Vendors  Sponsored by Wesleyan College (Wesleyan Students your ticket is free) No pets or outside food/beverages(You may bring water. Stay hydrated) Date- August 27\, 2023 Location- On the quad @ Wesleyan College Time- 4:00-8:00 p.m. Website is afriendinme.net ATTN: Tickets to our event are $23. If you would like to donate more to A Friend in Me please do so on the same page where you select the number of tickets you would like to purchase.  A Friend in Me is using a platform called\, Zeffy. We use Zeffy for their efficiency and 100% zero fees platform to sell tickets to ensure every dollar goes towards mental health awareness.  Zeffy\, operates off of donations.  AT CHECKOUT you will see that your total will be more than $23/ticket with a disclaimer from Zeffy suggesting you donate more to keep their platform operating. ***Please click the drop down menu and click “Other” if you do not wish to donate to Zeffy***-ZH **Disclaimer** Parents\, please be advised that some of the content of this event may not be suitable for ages 10 and under. A wide range of mental health topics (including suicide) will be displayed in speech format. Keep in mind suicide rates are on the rise in the middle school age range. Any attendee 10 years of age or younger is not required to hold a ticket to the event.
URL:https://afriendinme.net/event/a-friend-in-me-macon-ga/
LOCATION:Wesleyan College\, 4760 Forsyth Rd\, Macon\, GA\, 31210\, United States
ATTACH;FMTTYPE=image/png:https://afriendinme.net/wp-content/uploads/2023/07/a-friend-in-me-macon.png
END:VEVENT
BEGIN:VEVENT
DTSTART;TZID=UTC:20230802T180000
DTEND;TZID=UTC:20230802T180000
DTSTAMP:20260422T125311
CREATED:20230627T174832Z
LAST-MODIFIED:20230710T195731Z
UID:227-1690999200-1690999200@afriendinme.net
SUMMARY:Summer Life Vest
DESCRIPTION:A Friend in Me is an at Atlanta-based non-profit dedicated to growing mental health awareness through love\, kindness\, and intentional conversation. A Friend in Me motivates others to have more intentional conversation with people in their daily lives while also providing hope to those struggling that things will get better.\nSummer Life Vest features local artists\, retro-country from Sweet Young Twang\, americana-rock from The Racehorse Project and comedy from Atlanta based Comedian Katherine Blanford.\nProceeds from the event will be split between WST Foundation (WST seeks to provide funds and support to individuals seeking help-for more information on who they partner with see the website link) and A Friend in Me for future events in our efforts to raise mental health awareness and to prevent suicide.
URL:https://afriendinme.net/event/summer-life-vest/
LOCATION:The Rooftop at The Eastern\, 800 Old Flat Shoals Rd SE\, Atlanta\, GA\, 30316\, United States
ATTACH;FMTTYPE=image/jpeg:https://afriendinme.net/wp-content/uploads/2023/06/SLV_12x17-scaled.jpg
END:VEVENT
END:VCALENDAR